BEGIN:VCALENDAR
VERSION:2.0
PRODID:-//Carousel Center Condominium - ECPv4.9.10//NONSGML v1.0//EN
CALSCALE:GREGORIAN
METHOD:PUBLISH
X-WR-CALNAME:Carousel Center Condominium
X-ORIGINAL-URL:https://carouselcuo.com
X-WR-CALDESC:Events for Carousel Center Condominium
BEGIN:VTIMEZONE
TZID:America/New_York
BEGIN:DAYLIGHT
TZOFFSETFROM:-0500
TZOFFSETTO:-0400
TZNAME:EDT
DTSTART:20260308T070000
END:DAYLIGHT
BEGIN:STANDARD
TZOFFSETFROM:-0400
TZOFFSETTO:-0500
TZNAME:EST
DTSTART:20261101T060000
END:STANDARD
END:VTIMEZONE
BEGIN:VEVENT
DTSTART;TZID=America/New_York:20260429T160000
DTEND;TZID=America/New_York:20260429T200000
DTSTAMP:20260421T084522
CREATED:20260409T020449Z
LAST-MODIFIED:20260421T020331Z
UID:377271-1777478400-1777492800@carouselcuo.com
SUMMARY:Rich n' Famous
DESCRIPTION: Rich N Famous performs live at The Skye Bar and Grille in Ocean City\, Maryland tonight.  Stop by for happy hour and then enjoy a great dinner with Rich n’ Famous on stage.  \n
URL:https://carouselcuo.com/event/rich-n-famous/
END:VEVENT
END:VCALENDAR