BEGIN:VCALENDAR
VERSION:2.0
PRODID:-//Carousel Center Condominium - ECPv4.9.10//NONSGML v1.0//EN
CALSCALE:GREGORIAN
METHOD:PUBLISH
X-WR-CALNAME:Carousel Center Condominium
X-ORIGINAL-URL:https://carouselcuo.com
X-WR-CALDESC:Events for Carousel Center Condominium
BEGIN:VTIMEZONE
TZID:America/New_York
BEGIN:DAYLIGHT
TZOFFSETFROM:-0500
TZOFFSETTO:-0400
TZNAME:EDT
DTSTART:20260308T070000
END:DAYLIGHT
BEGIN:STANDARD
TZOFFSETFROM:-0400
TZOFFSETTO:-0500
TZNAME:EST
DTSTART:20261101T060000
END:STANDARD
END:VTIMEZONE
BEGIN:VEVENT
DTSTART;TZID=America/New_York:20260430T210000
DTEND;TZID=America/New_York:20260430T210000
DTSTAMP:20260424T105928
CREATED:20260423T020431Z
LAST-MODIFIED:20260424T020905Z
UID:377310-1777582800-1777582800@carouselcuo.com
SUMMARY:DJ J Spinz at Seacrets
DESCRIPTION:DJ J Spinz is a dynamic and versatile DJ based on the Eastern Shore\, known for his ability to energize any event with his mixes and engaging presence. With a passion for music that spans genres\, DJ J Spinz has become a sought-after for events. DJ J-Spinz is live at Seacrets tonight. \n
URL:https://carouselcuo.com/event/dj-j-spinz-at-seacrets-2/
END:VEVENT
END:VCALENDAR